BEGIN:VCALENDAR
VERSION:2.0
PRODID:-//NYSA - ECPv6.15.20//NONSGML v1.0//EN
CALSCALE:GREGORIAN
METHOD:PUBLISH
X-WR-CALNAME:NYSA
X-ORIGINAL-URL:https://nevadayouthsoccer.org
X-WR-CALDESC:Events for NYSA
REFRESH-INTERVAL;VALUE=DURATION:PT1H
X-Robots-Tag:noindex
X-PUBLISHED-TTL:PT1H
BEGIN:VTIMEZONE
TZID:UTC
BEGIN:STANDARD
TZOFFSETFROM:+0000
TZOFFSETTO:+0000
TZNAME:UTC
DTSTART:20220101T000000
END:STANDARD
END:VTIMEZONE
BEGIN:VEVENT
DTSTART;VALUE=DATE:20231016
DTEND;VALUE=DATE:20231017
DTSTAMP:20260417T212816
CREATED:20230613T005246Z
LAST-MODIFIED:20230613T010236Z
UID:2400-1697414400-1697500799@nevadayouthsoccer.org
SUMMARY:Coach Education - D Course
DESCRIPTION:USSF D License Course hosted by Nevada Youth Soccer Association\nVirtual Start – October 15\, 2023\nIn-Person Meeting #1 – November 11-12\nIn-Person Meeting #2 – December 2-3\nCourse Details:\nThe National D License is an online and in-person course\, that begins in October 2023 with an online experience and two in-person meetings. \nCoaches who register for this course can expect weekly learning opportunities that will feature a mixture of independent learning using online modules and live virtual meetings led by a licensed U.S. Soccer Instructor. Coaches will be asked to participate in discussions so each person should have access to the internet and a web-camera/live video capabilities. The virtual meetings will take place on agreed upon days and times (see below). Coaches may be asked to participate in the field component as either coaches or players\, so please come prepared to actively learn. \nCandidates that register for this course are expected to attend all classroom webinars and course meetings to be eligible to receive the license. \n  \nEligibility Requirements:\nIn order to be considered for the U.S. Soccer D course\, all candidates must meet the following prerequisites: \n·       At least 16 years of age\n·       Currently coaching or have access to a team\n·       2 Grassroots In-Person Courses (one which is 11v11) + 1 Online course \nOr\n·       U.S. Soccer E License \nCourse Structure:\nOctober 2023 NYS LV D course Opening Meeting (webinar)\n·       Opening Webinar Date: October 16\, 2023\n·       Opening Webinar Time: TBD\n·       October 2023 NYS LV D Opening Webinar Link: Group discussion message in LC communication section. (Need to use Google Chrome or Firefox as your browser for USSF Webinars)\n·       Coaches are expected to have access to a team/players in order to complete the assignments during the course \n  \nVirtual Period:\nThe Virtual Period is the time in between the pre-course meeting\, the on-field component(s) and after the final field component. The Virtual Period will consist of weekly learning opportunities that will feature a mixture of independent learning using online modules\, live virtual meetings led by a licensed U.S. Soccer Instructor and small group meetings that are organized by the coaches. Coaches will be asked to participate in discussions so each person should have access to the internet and a web-camera/live video capabilities. \nThe virtual meetings will take place agreed upon days and times that will be finalized during the pre-course meeting (each instructor group will establish their own meeting times).  See below for more specifics on typical meeting days/times\, as well as the date(s) for the in-person meeting. \nNYSA 2023 National D License – Two in-person course meetings\nOctober 15- December 9\, 2023 – 9 consecutive weeks:\nVirtual Meetings (webinars typically at least once a week and on occasion twice a week) \n§  Times: TBA (typically chosen at 9:00am\, 12 Noon\, or 6:00pm (PST) based upon majority choice/availability of the course attendees) \n  \nOn-Field Component 1 (In-person meeting #1)\n·                Date: November 11-12\, 2023\n·                Location: (Classroom and field TBA in Las Vegas\, Nev.) \nOn-Field Component 2 (In-person meeting #2)\n·              Date: December 2-3\, 2023\n·                Location: (Classroom and field TBA in Las Vegas\, Nev.)\n·                Course finishes December 9\, 2023 \nRefund Policy\nFull payment is required at the time of registration. Any cancellations after October 1\, 2023 will forfeit 100% of their fees unless the candidate is replaced\, then 50% less any non-refundable US Soccer fees are refundable. All fees are non-refundable once the course begins. \nFor more information:\nmelanie@nevadayouthsoccer.org or visit the USSF Learning Center at learning.usoccer.com
URL:https://nevadayouthsoccer.org/event/coach-education-d-course/
CATEGORIES:Coach Education
END:VEVENT
BEGIN:VEVENT
DTSTART;VALUE=DATE:20230926
DTEND;VALUE=DATE:20230927
DTSTAMP:20260417T212816
CREATED:20230613T011322Z
LAST-MODIFIED:20230613T011322Z
UID:2410-1695686400-1695772799@nevadayouthsoccer.org
SUMMARY:Coach Education - Grassroots 11v11
DESCRIPTION:11v11 Blended Grassroots Course Hosted by Nevada Youth Soccer Association\nVirtual September 26 – Field Session October 1\, 2023\nIn-Person Field Session: To be provided \n11v11 Blended Grassroots Course: Virtual Meeting + In-Person Field Session \nVirtual Meeting: Tuesday September 26 6:00 pm – 8:00 pm\nIn-Person Field Session: Sunday October 1\, 4:00 pm – 6:00 pm \nRegistration closes at 11:59 pm on Sunday\, September 17\, or when the course sells out\, whichever occurs first. \nCourse Details: \nThe 11v11 In-Person Course is a four-hour course that builds on the principles covered in U.S. Soccer’s Introduction to Grassroots Coaching Module. Specifically\, coaches will learn more about U.S. Soccer’s Grassroots Coaching Education Philosophy\, Play-Practice-Play Methodology\, the Six Tasks of a Coach\, and the characteristics of players aged 13-18. The course will also ask each coach to reflect on their experiences to develop action steps for personal growth in the Six Tasks (Coaching Games\, Coaching Training Sessions\, Leading the Team\, Leading the Player\, Managing the Performance Environment\, and Leadership). \nCoaches will be asked to participate in discussions so each person must have access to a web-camera/live video capabilities. Coaches may be asked to participate in the field component as either coaches or players\, so please come prepared to actively learn. \nCoaches may be asked to participate in the field component as either coaches or players\, so please come prepared to actively learn. \nEligibility Requirement: \nIn order to register for the 9v9 Blended Course\, candidates must be at least 16 years old* and have completed U.S. Soccer’s Introduction to Grassroots Coaching module. This module can be accessed here. \n*Due to online privacy laws\, individuals under the age of 16 cannot create Learning Center (LC) profiles\, and thus are unable to take Grassroots Courses. \n*Candidates are responsible for providing players for this course. \nCourse Schedule: \nVirtual Meeting: Tuesday September 26 6:00 pm – 8:00 pm\nIn-Person Field Session: Sunday October 1\, 4:00 pm – 6:00 pm \nPlease contact melanie@nevadayouthsoccer.org with any questions.
URL:https://nevadayouthsoccer.org/event/coach-education-grassroots-11v11/
CATEGORIES:Coach Education
END:VEVENT
BEGIN:VEVENT
DTSTART;VALUE=DATE:20230925
DTEND;VALUE=DATE:20230926
DTSTAMP:20260417T212816
CREATED:20230613T010546Z
LAST-MODIFIED:20230613T011026Z
UID:2406-1695600000-1695686399@nevadayouthsoccer.org
SUMMARY:Coach Education - Grassroots 9v9
DESCRIPTION:9v9 Blended Grassroots Course Hosted by Nevada Youth Soccer Association\nVirtual Monday September 25 & Field Session Sunday October 1\, 2023\nIn-Person Field Session: Centennial Hills Park \n9v9 Blended Grassroots Course: Virtual Meeting + In-Person Field Session \nVirtual Meeting: Monday September 25\, 6:00 pm – 8:00 pm\nIn-Person Field Session: October 1 1:30 pm-3:30 pm \nRegistration closes at 11:59 pm on Sunday\, September 17\, 2023\, or when the course sells out\, whichever occurs first. \nCourse Details: \nThe 9v9 In-Person Course is a four-hour course that builds on the principles covered in U.S. Soccer’s Introduction to Grassroots Coaching Module. Specifically\, coaches will learn more about U.S. Soccer’s Grassroots Coaching Education Philosophy\, Play-Practice-Play Methodology\, the Six Tasks of a Coach\, and the characteristics of players aged 11-12. The course will also ask each coach to reflect on their experiences to develop action steps for personal growth in the Six Tasks (Coaching Games\, Coaching Training Sessions\, Leading the Team\, Leading the Player\, Managing the Performance Environment\, and Leadership). \nCoaches will be asked to participate in discussions so each person must have access to a web-camera/live video capabilities. Coaches may be asked to participate in the field component as either coaches or players\, so please come prepared to actively learn. \nCoaches may be asked to participate in the field component as either coaches or players\, so please come prepared to actively learn. \nEligibility Requirement: \nIn order to register for the 9v9 Blended Course\, candidates must be at least 16 years old* and have completed U.S. Soccer’s Introduction to Grassroots Coaching module. This module can be accessed here. \n*Due to online privacy laws\, individuals under the age of 16 cannot create Learning Center (LC) profiles\, and thus are unable to take Grassroots Courses. \n*Candidates are responsible for providing players for this course. \nCourse Schedule: \nVirtual Meeting: Monday September 25\, 6:00 pm – 8:00 pm\nIn-Person Field Session: October 1 1:30 pm-3:30 pm \nPlease contact melanie@nevadayouthsoccer.org with any questions.
URL:https://nevadayouthsoccer.org/event/coach-education-grassroots-9v9/
CATEGORIES:Coach Education
END:VEVENT
BEGIN:VEVENT
DTSTART;VALUE=DATE:20230820
DTEND;VALUE=DATE:20230821
DTSTAMP:20260417T212816
CREATED:20230613T005706Z
LAST-MODIFIED:20230613T005805Z
UID:2403-1692489600-1692575999@nevadayouthsoccer.org
SUMMARY:Coach Education - C Course
DESCRIPTION:Nevada Youth Soccer – U.S. Soccer “C” Course Las Vegas\, NV – Aug 20 to Dec 9\, 2023\nThe U.S. Soccer C License hosted by Nevada Youth Soccer Association is an online and in-person course. This blended format combines an online experience\, assignments\, small group meetings\, independent learning\, and in-person meeting. \nEligibility Requirements:\nTo register for the U.S. Soccer C course\, students must meet the following prerequisites: \n\nAt least 18 years of age\nHave held a U.S. Soccer D license for at least 6 months or meet the waiver guidelines\nAccess to a team (U13+) in a participation environment for the duration of the course\n\nCourse Experience:\n80+ hours (virtual + in-person meetings) \nStudents who register for this course can expect weekly learning opportunities that will feature a mixture of independent learning using online modules\, live virtual meetings\, and in-person meetings led by a licensed U.S. Soccer Educator. Students should have access to the internet and a laptop/device with web camera/live video capabilities. The virtual meetings will take place on agreed-upon days and times (see below). Students may be asked to participate in the in-person field component as either coaches or players\, so please come prepared to actively learn. \nCourse duration:\nFour (4) Months (Including summative assessment) with four (4) in-person days \n• Virtual meetings (Large group/small group) \n• Videos \n• Individual meetings with Coach Educator \n• Independent learning and investigation/research \n• Individual assignments \n• Collaborative projects \nAssessment:\nFormative Assessment (course assignments during the course) in\n• Leadership and Managing the Performance Environment \n• Leading the Player within the Team \n• Team Performance Observation-Analysis \n• Coaching Games \n• Coaching Training Sessions \nSummative Assessment (Final projects at the end of the course) in\n• Coaching Games \no Team Performance Analysis report \n• Coaching Training Sessions \no Designing two (2) training session plans (within one week) \no Coaching one (1) training session (video) \nStudents that register for this course are expected to attend all course meetings and complete all assignments in order to be eligible for the final assessment.\nOptional Pre-course Meeting:\nMust be registered to attend. Meeting held one (1) week prior to the official start of the course \nOpening Webinar Date: August 14\, 2023\nOpening Webinar Time: 6PM PST\nOpening Webinar Link: This will be shared in the course calendar and communication \nSchedule:\nThe final meeting dates and times will be announced at least three weeks prior to the course start. \nDuring the pre-course meeting\, each educator group will establish its own meeting times \nDates: August 20 – December 9\, 2023 \nIn-person dates:\nDate: September 28 – October 1\, 2023 \nTime: 9am – 6pm \nField Location: Viper Fields\, 6105 N Durango\, Las Vegas\, NV 89149 \nClassroom Portion: To Be Determined – within 15 minutes drive of the field location \nArrival: 30 minutes before scheduled start time \nVirtual meetings:\nWeek 1 – Introduction course mtg (August 21-24 + time TBD) \nEducator small group mtg \nWeek 2 – One on One mtg \nWeek 3 – Educator group mtg \nSmall group mtg* \nWeek 4 – Educator group mtg \nSmall group mtg* \nWeek 5 – Two on One mtg \nWeek 6 – Small group mtg* \nWeek 7 – Small group mtg* \nWeek 8 – Educator group mtg \nSmall group mtg* \nWeek 9 – Educator group mtg \nSmall group mtg* \nWeek 10 – Small group mtg* \nWeek 11 – Educator group mtg \nWeek 12 – Small group mtg* \nWeek 13 – Educator group mtg \nSmall group mtg* \nWeek 14 – Educator group mtg \nSmall group mtg* \nWeek 15 – Closing course mtg \nSmall group mtg* \nWeek 16 – One on One mtg \n*Not all small group meetings are required \nCourse Fee\nNevada Youth Soccer Members – $1475 (+$25 non-refundable US Soccer fee) \nNon-Nevada Youth Soccer Members – $1675 (+$25 non-refundable US Soccer fee) \nRegistration\nRegistration Open – March 15\, 2023\nRegistration Close – July 24\, 2023 \nRefund Policy\nFull payment is required at the time of registration. Any cancellations after July 24\, 2023 will forfeit 100% of their fees\, unless the candidate is replaced\, then 50% (less the $25 US Soccer non-refundable fee) will be refunded. \nAll fees are non-refundable once course begins. \nIn the event of course cancellation or force majeure\, refunds will be processed on a case by case basis.
URL:https://nevadayouthsoccer.org/event/coach-education-c-course/
CATEGORIES:Coach Education
END:VEVENT
BEGIN:VEVENT
DTSTART;VALUE=DATE:20230510
DTEND;VALUE=DATE:20230515
DTSTAMP:20260417T212816
CREATED:20230310T012753Z
LAST-MODIFIED:20230310T012753Z
UID:1754-1683676800-1684108799@nevadayouthsoccer.org
SUMMARY:Coaching Education - Grassroots
DESCRIPTION:May 10-13\, 2023 \n9v9 Grassroots\nMay 10 – Virtual classroom\nMay 13 – In person session \n11v11 Grassroots\nMay 11 – Virtual classroom\nMay 13 – In person session \nVisit learning.ussoccer.com to sign up. Each course has its own registration. \nBoth the 9v9 and 11v11 course are required to register for the D License\, in addition to online prerequisites.
URL:https://nevadayouthsoccer.org/event/coaching-education-grassroots/
CATEGORIES:Coach Education
END:VEVENT
END:VCALENDAR