BEGIN:VCALENDAR
VERSION:2.0
PRODID:-//NYSA - ECPv6.1.2.2//NONSGML v1.0//EN
CALSCALE:GREGORIAN
METHOD:PUBLISH
X-ORIGINAL-URL:https://nevadayouthsoccer.org/stagingjuly
X-WR-CALDESC:Events for NYSA
REFRESH-INTERVAL;VALUE=DURATION:PT1H
X-Robots-Tag:noindex
X-PUBLISHED-TTL:PT1H
BEGIN:VTIMEZONE
TZID:UTC
BEGIN:STANDARD
TZOFFSETFROM:+0000
TZOFFSETTO:+0000
TZNAME:UTC
DTSTART:20230101T000000
END:STANDARD
END:VTIMEZONE
BEGIN:VEVENT
DTSTART;TZID=UTC:20230203T080000
DTEND;TZID=UTC:20230205T170000
DTSTAMP:20260423T135430
CREATED:20221102T150814Z
LAST-MODIFIED:20221102T150814Z
UID:1155-1675411200-1675616400@nevadayouthsoccer.org
SUMMARY:Nevada State League
DESCRIPTION:
URL:https://nevadayouthsoccer.org/stagingjuly/event/nevada-state-league-3/
LOCATION:NV
END:VEVENT
END:VCALENDAR