BEGIN:VCALENDAR
VERSION:2.0
PRODID:-//NYSA - ECPv6.1.2.2//NONSGML v1.0//EN
CALSCALE:GREGORIAN
METHOD:PUBLISH
X-WR-CALNAME:NYSA
X-ORIGINAL-URL:https://nevadayouthsoccer.org/stagingjuly
X-WR-CALDESC:Events for NYSA
REFRESH-INTERVAL;VALUE=DURATION:PT1H
X-Robots-Tag:noindex
X-PUBLISHED-TTL:PT1H
BEGIN:VTIMEZONE
TZID:UTC
BEGIN:STANDARD
TZOFFSETFROM:+0000
TZOFFSETTO:+0000
TZNAME:UTC
DTSTART:20230101T000000
END:STANDARD
END:VTIMEZONE
BEGIN:VEVENT
DTSTART;VALUE=DATE:20230412
DTEND;VALUE=DATE:20230413
DTSTAMP:20260423T104049
CREATED:20221102T151305Z
LAST-MODIFIED:20221102T151305Z
UID:1181-1681257600-1681343999@nevadayouthsoccer.org
SUMMARY:Deadline to submit policy and bylaw changes for NYSA AGM and “Of the Year” submissions
DESCRIPTION:
URL:https://nevadayouthsoccer.org/stagingjuly/event/deadline-to-submit-policy-and-bylaw-changes-for-nysa-agm-and-of-the-year-submissions/
LOCATION:NV
END:VEVENT
END:VCALENDAR