BEGIN:VCALENDAR
VERSION:2.0
PRODID:-//NYSA - ECPv6.1.2.2//NONSGML v1.0//EN
CALSCALE:GREGORIAN
METHOD:PUBLISH
X-ORIGINAL-URL:https://nevadayouthsoccer.org/stagingjuly
X-WR-CALDESC:Events for NYSA
REFRESH-INTERVAL;VALUE=DURATION:PT1H
X-Robots-Tag:noindex
X-PUBLISHED-TTL:PT1H
BEGIN:VTIMEZONE
TZID:UTC
BEGIN:STANDARD
TZOFFSETFROM:+0000
TZOFFSETTO:+0000
TZNAME:UTC
DTSTART:20230101T000000
END:STANDARD
END:VTIMEZONE
BEGIN:VEVENT
DTSTART;TZID=UTC:20230421T080000
DTEND;TZID=UTC:20230423T170000
DTSTAMP:20260423T104239
CREATED:20221102T151416Z
LAST-MODIFIED:20221102T151416Z
UID:1187-1682064000-1682269200@nevadayouthsoccer.org
SUMMARY:Jeff Bush Memorial Tournament (sanctioned tournament)
DESCRIPTION:
URL:https://nevadayouthsoccer.org/stagingjuly/event/jeff-bush-memorial-tournament-sanctioned-tournament/
LOCATION:NV
END:VEVENT
END:VCALENDAR