BEGIN:VCALENDAR
VERSION:2.0
PRODID:-//NYSA - ECPv6.1.2.2//NONSGML v1.0//EN
CALSCALE:GREGORIAN
METHOD:PUBLISH
X-ORIGINAL-URL:https://nevadayouthsoccer.org/stagingjuly
X-WR-CALDESC:Events for NYSA
REFRESH-INTERVAL;VALUE=DURATION:PT1H
X-Robots-Tag:noindex
X-PUBLISHED-TTL:PT1H
BEGIN:VTIMEZONE
TZID:UTC
BEGIN:STANDARD
TZOFFSETFROM:+0000
TZOFFSETTO:+0000
TZNAME:UTC
DTSTART:20230101T000000
END:STANDARD
END:VTIMEZONE
BEGIN:VEVENT
DTSTART;TZID=UTC:20230614T153000
DTEND;TZID=UTC:20230614T180000
DTSTAMP:20260423T074842
CREATED:20221102T151623Z
LAST-MODIFIED:20230613T231507Z
UID:1201-1686756600-1686765600@nevadayouthsoccer.org
SUMMARY:Nevada Youth Soccer Annual General Meeting
DESCRIPTION:The Nevada Youth Soccer Annual General Meeting will be held on June 14th at 3:30pm. For those that wish to attend virtually\, please use the link below to register to receive the meeting link. \n  \nREGISTRATION LINK
URL:https://nevadayouthsoccer.org/stagingjuly/event/nevada-youth-soccer-annual-general-meeting/
LOCATION:Cashman Field\, 850 N Las Vegas Blvd.\, Las Vegas\, 89101\, United States
END:VEVENT
END:VCALENDAR