BEGIN:VCALENDAR
VERSION:2.0
PRODID:-//NYSA - ECPv6.1.2.2//NONSGML v1.0//EN
CALSCALE:GREGORIAN
METHOD:PUBLISH
X-ORIGINAL-URL:https://nevadayouthsoccer.org/stagingjuly
X-WR-CALDESC:Events for NYSA
REFRESH-INTERVAL;VALUE=DURATION:PT1H
X-Robots-Tag:noindex
X-PUBLISHED-TTL:PT1H
BEGIN:VTIMEZONE
TZID:UTC
BEGIN:STANDARD
TZOFFSETFROM:+0000
TZOFFSETTO:+0000
TZNAME:UTC
DTSTART:20230101T000000
END:STANDARD
END:VTIMEZONE
BEGIN:VEVENT
DTSTART;VALUE=DATE:20230706
DTEND;VALUE=DATE:20230712
DTSTAMP:20260423T061524
CREATED:20221102T151753Z
LAST-MODIFIED:20221102T151753Z
UID:1209-1688601600-1689119999@nevadayouthsoccer.org
SUMMARY:USYS National President’s Cup - Wichita\, KS
DESCRIPTION:
URL:https://nevadayouthsoccer.org/stagingjuly/event/usys-national-presidents-cup-wichita-ks/
LOCATION:NV
END:VEVENT
END:VCALENDAR