BEGIN:VCALENDAR
VERSION:2.0
PRODID:-//NYSA - ECPv6.1.2.2//NONSGML v1.0//EN
CALSCALE:GREGORIAN
METHOD:PUBLISH
X-WR-CALNAME:NYSA
X-ORIGINAL-URL:https://nevadayouthsoccer.org/stagingjuly
X-WR-CALDESC:Events for NYSA
REFRESH-INTERVAL;VALUE=DURATION:PT1H
X-Robots-Tag:noindex
X-PUBLISHED-TTL:PT1H
BEGIN:VTIMEZONE
TZID:UTC
BEGIN:STANDARD
TZOFFSETFROM:+0000
TZOFFSETTO:+0000
TZNAME:UTC
DTSTART:20230101T000000
END:STANDARD
END:VTIMEZONE
BEGIN:VEVENT
DTSTART;TZID=UTC:20230106T080000
DTEND;TZID=UTC:20230109T170000
DTSTAMP:20260423T135434
CREATED:20221102T150551Z
LAST-MODIFIED:20221102T150551Z
UID:1143-1672992000-1673283600@nevadayouthsoccer.org
SUMMARY:ODP West Region Championships at Bell Park in Phoenix\, AZ
DESCRIPTION:
URL:https://nevadayouthsoccer.org/stagingjuly/event/odp-west-region-championships-at-bell-park-in-phoenix-az/
LOCATION:NV
END:VEVENT
BEGIN:VEVENT
DTSTART;TZID=UTC:20230111T080000
DTEND;TZID=UTC:20230111T170000
DTSTAMP:20260423T135434
CREATED:20221102T150613Z
LAST-MODIFIED:20221102T150613Z
UID:1145-1673424000-1673456400@nevadayouthsoccer.org
SUMMARY:Nevada State League Payment Deadline
DESCRIPTION:
URL:https://nevadayouthsoccer.org/stagingjuly/event/nevada-state-league-payment-deadline/
LOCATION:NV
END:VEVENT
BEGIN:VEVENT
DTSTART;TZID=UTC:20230120T080000
DTEND;TZID=UTC:20230122T170000
DTSTAMP:20260423T135434
CREATED:20221102T150643Z
LAST-MODIFIED:20221102T150643Z
UID:1147-1674201600-1674406800@nevadayouthsoccer.org
SUMMARY:Vegas Cup (sanctioned tournament)
DESCRIPTION:
URL:https://nevadayouthsoccer.org/stagingjuly/event/vegas-cup-sanctioned-tournament/
LOCATION:NV
END:VEVENT
BEGIN:VEVENT
DTSTART;TZID=UTC:20230120T080000
DTEND;TZID=UTC:20230122T170000
DTSTAMP:20260423T135434
CREATED:20221102T150706Z
LAST-MODIFIED:20221102T150706Z
UID:1149-1674201600-1674406800@nevadayouthsoccer.org
SUMMARY:Nevada State League
DESCRIPTION:
URL:https://nevadayouthsoccer.org/stagingjuly/event/nevada-state-league/
LOCATION:NV
END:VEVENT
BEGIN:VEVENT
DTSTART;TZID=UTC:20230125T080000
DTEND;TZID=UTC:20230125T170000
DTSTAMP:20260423T135434
CREATED:20221102T150726Z
LAST-MODIFIED:20221102T150726Z
UID:1151-1674633600-1674666000@nevadayouthsoccer.org
SUMMARY:NYSA Board Meeting
DESCRIPTION:
URL:https://nevadayouthsoccer.org/stagingjuly/event/nysa-board-meeting/
LOCATION:NV
END:VEVENT
BEGIN:VEVENT
DTSTART;TZID=UTC:20230127T080000
DTEND;TZID=UTC:20230128T170000
DTSTAMP:20260423T135434
CREATED:20221102T150744Z
LAST-MODIFIED:20221102T150744Z
UID:1153-1674806400-1674925200@nevadayouthsoccer.org
SUMMARY:Nevada State League
DESCRIPTION:
URL:https://nevadayouthsoccer.org/stagingjuly/event/nevada-state-league-2/
LOCATION:NV
END:VEVENT
END:VCALENDAR