BEGIN:VCALENDAR
VERSION:2.0
PRODID:-//NYSA - ECPv6.1.2.2//NONSGML v1.0//EN
CALSCALE:GREGORIAN
METHOD:PUBLISH
X-ORIGINAL-URL:https://nevadayouthsoccer.org/stagingjuly
X-WR-CALDESC:Events for NYSA
REFRESH-INTERVAL;VALUE=DURATION:PT1H
X-Robots-Tag:noindex
X-PUBLISHED-TTL:PT1H
BEGIN:VTIMEZONE
TZID:UTC
BEGIN:STANDARD
TZOFFSETFROM:+0000
TZOFFSETTO:+0000
TZNAME:UTC
DTSTART:20230101T000000
END:STANDARD
END:VTIMEZONE
BEGIN:VEVENT
DTSTART;VALUE=DATE:20230301
DTEND;VALUE=DATE:20230305
DTSTAMP:20260423T104342
CREATED:20230127T190752Z
LAST-MODIFIED:20230127T190752Z
UID:1578-1677628800-1677974399@nevadayouthsoccer.org
SUMMARY:Coach Education - Grassroots 9v9 & 11v11
DESCRIPTION:
URL:https://nevadayouthsoccer.org/stagingjuly/event/coach-education-grassroots-9v9-11v11/
LOCATION:NV
END:VEVENT
BEGIN:VEVENT
DTSTART;TZID=UTC:20230303T080000
DTEND;TZID=UTC:20230304T170000
DTSTAMP:20260423T104342
CREATED:20221102T151004Z
LAST-MODIFIED:20221102T151004Z
UID:1165-1677830400-1677949200@nevadayouthsoccer.org
SUMMARY:Las Vegas Invitational (sanctioned tournament)
DESCRIPTION:
URL:https://nevadayouthsoccer.org/stagingjuly/event/las-vegas-invitational-sanctioned-tournament/
LOCATION:NV
END:VEVENT
BEGIN:VEVENT
DTSTART;TZID=UTC:20230306T080000
DTEND;TZID=UTC:20230309T170000
DTSTAMP:20260423T104342
CREATED:20221102T151030Z
LAST-MODIFIED:20221102T151030Z
UID:1167-1678089600-1678381200@nevadayouthsoccer.org
SUMMARY:Coaching Education - B License - Hosted by U.S. Soccer in Las Vegas
DESCRIPTION:
URL:https://nevadayouthsoccer.org/stagingjuly/event/coaching-education-b-license-hosted-by-u-s-soccer-in-las-vegas/
LOCATION:NV
END:VEVENT
BEGIN:VEVENT
DTSTART;VALUE=DATE:20230310
DTEND;VALUE=DATE:20230313
DTSTAMP:20260423T104342
CREATED:20221102T151108Z
LAST-MODIFIED:20230127T191318Z
UID:1171-1678406400-1678665599@nevadayouthsoccer.org
SUMMARY:Nevada Jr. Cup
DESCRIPTION:Tournament Dates: March 10 – 12\, 2023\nAll games held at Kellogg-Zaher Sports Complex\n(Local teams should plan for 5:30pm games on Friday\, all teams plan for 8am game Saturday\, and the last game concludes by 5pm on Sunday) \nPayment Deadline: February 17\, 2023\nCheck-In Deadline: February 24\, 2023\nSchedule Release Date: March 3\, 2023\nRoster Freeze: February 24\, 2023\nRegistration Fees:\n6-8U (2017-2015): $475\n9-10U (2014-2013): $600\n11-12U (2012-2011): $725\n13-14U (2010-2009): $895
URL:https://nevadayouthsoccer.org/stagingjuly/event/nevada-jr-cup/
LOCATION:Kellogg-Zaher Soccer Complex\, 7701 West Washington Ave\, Las Vegas\, NV\, 89128\, United States
END:VEVENT
BEGIN:VEVENT
DTSTART;TZID=UTC:20230310T080000
DTEND;TZID=UTC:20230312T170000
DTSTAMP:20260423T104342
CREATED:20221102T151048Z
LAST-MODIFIED:20221102T151048Z
UID:1169-1678435200-1678640400@nevadayouthsoccer.org
SUMMARY:Players Showcase - Girls Weekend (sanctioned tournament)
DESCRIPTION:
URL:https://nevadayouthsoccer.org/stagingjuly/event/players-showcase-girls-weekend-sanctioned-tournament/
LOCATION:NV
END:VEVENT
BEGIN:VEVENT
DTSTART;TZID=UTC:20230317T080000
DTEND;TZID=UTC:20230319T170000
DTSTAMP:20260423T104342
CREATED:20221102T151127Z
LAST-MODIFIED:20221102T151127Z
UID:1173-1679040000-1679245200@nevadayouthsoccer.org
SUMMARY:Players Showcase - Boys Weekend (sanctioned tournament)
DESCRIPTION:
URL:https://nevadayouthsoccer.org/stagingjuly/event/players-showcase-boys-weekend-sanctioned-tournament/
LOCATION:NV
END:VEVENT
BEGIN:VEVENT
DTSTART;VALUE=DATE:20230318
DTEND;VALUE=DATE:20230319
DTSTAMP:20260423T104342
CREATED:20221102T151149Z
LAST-MODIFIED:20221102T151149Z
UID:1175-1679097600-1679183999@nevadayouthsoccer.org
SUMMARY:US Soccer National Council Meeting - San Diego\, CA
DESCRIPTION:
URL:https://nevadayouthsoccer.org/stagingjuly/event/us-soccer-national-council-meeting-san-diego-ca/
LOCATION:NV
END:VEVENT
BEGIN:VEVENT
DTSTART;VALUE=DATE:20230324
DTEND;VALUE=DATE:20230327
DTSTAMP:20260423T104342
CREATED:20221102T151217Z
LAST-MODIFIED:20221102T151217Z
UID:1177-1679616000-1679875199@nevadayouthsoccer.org
SUMMARY:Vegas Cup Spring Classic (sanctioned tournament)
DESCRIPTION:
URL:https://nevadayouthsoccer.org/stagingjuly/event/vegas-cup-spring-classic-sanctioned-tournament/
LOCATION:NV
END:VEVENT
END:VCALENDAR