BEGIN:VCALENDAR
VERSION:2.0
PRODID:-//NYSA - ECPv6.1.2.2//NONSGML v1.0//EN
CALSCALE:GREGORIAN
METHOD:PUBLISH
X-WR-CALNAME:NYSA
X-ORIGINAL-URL:https://nevadayouthsoccer.org/stagingjuly
X-WR-CALDESC:Events for NYSA
REFRESH-INTERVAL;VALUE=DURATION:PT1H
X-Robots-Tag:noindex
X-PUBLISHED-TTL:PT1H
BEGIN:VTIMEZONE
TZID:UTC
BEGIN:STANDARD
TZOFFSETFROM:+0000
TZOFFSETTO:+0000
TZNAME:UTC
DTSTART:20230101T000000
END:STANDARD
END:VTIMEZONE
BEGIN:VEVENT
DTSTART;TZID=UTC:20230504T080000
DTEND;TZID=UTC:20230507T170000
DTSTAMP:20260423T074748
CREATED:20221102T151448Z
LAST-MODIFIED:20221102T151448Z
UID:1191-1683187200-1683478800@nevadayouthsoccer.org
SUMMARY:Coaching Education - D-License - 1st in-person session
DESCRIPTION:
URL:https://nevadayouthsoccer.org/stagingjuly/event/coaching-education-d-license-1st-in-person-session/
LOCATION:NV
END:VEVENT
BEGIN:VEVENT
DTSTART;VALUE=DATE:20230510
DTEND;VALUE=DATE:20230515
DTSTAMP:20260423T074748
CREATED:20230309T182753Z
LAST-MODIFIED:20230309T182753Z
UID:1754-1683676800-1684108799@nevadayouthsoccer.org
SUMMARY:Coaching Education - Grassroots
DESCRIPTION:May 10-13\, 2023 \n9v9 Grassroots\nMay 10 – Virtual classroom\nMay 13 – In person session \n11v11 Grassroots\nMay 11 – Virtual classroom\nMay 13 – In person session \nVisit learning.ussoccer.com to sign up. Each course has its own registration. \nBoth the 9v9 and 11v11 course are required to register for the D License\, in addition to online prerequisites.
URL:https://nevadayouthsoccer.org/stagingjuly/event/coaching-education-grassroots/
LOCATION:NV
CATEGORIES:Coach Education
END:VEVENT
BEGIN:VEVENT
DTSTART;TZID=UTC:20230515T080000
DTEND;TZID=UTC:20230518T170000
DTSTAMP:20260423T074748
CREATED:20221102T151507Z
LAST-MODIFIED:20221102T151507Z
UID:1193-1684137600-1684429200@nevadayouthsoccer.org
SUMMARY:Coaching Education - B-License - Hosted by U.S. Soccer in Las Vegas
DESCRIPTION:
URL:https://nevadayouthsoccer.org/stagingjuly/event/coaching-education-b-license-hosted-by-u-s-soccer-in-las-vegas-2/
LOCATION:NV
END:VEVENT
BEGIN:VEVENT
DTSTART;VALUE=DATE:20230520
DTEND;VALUE=DATE:20230522
DTSTAMP:20260423T074748
CREATED:20221102T151526Z
LAST-MODIFIED:20221102T151526Z
UID:1195-1684540800-1684713599@nevadayouthsoccer.org
SUMMARY:Spring Cup (sanctioned tournament)
DESCRIPTION:
URL:https://nevadayouthsoccer.org/stagingjuly/event/spring-cup-sanctioned-tournament/
LOCATION:NV
END:VEVENT
BEGIN:VEVENT
DTSTART;VALUE=DATE:20230527
DTEND;VALUE=DATE:20230530
DTSTAMP:20260423T074748
CREATED:20221102T151546Z
LAST-MODIFIED:20221102T151546Z
UID:1197-1685145600-1685404799@nevadayouthsoccer.org
SUMMARY:Memorial Cup (sanctioned tournament)
DESCRIPTION:
URL:https://nevadayouthsoccer.org/stagingjuly/event/memorial-cup-sanctioned-tournament/
LOCATION:NV
END:VEVENT
END:VCALENDAR