BEGIN:VCALENDAR
VERSION:2.0
PRODID:-//NYSA - ECPv6.1.2.2//NONSGML v1.0//EN
CALSCALE:GREGORIAN
METHOD:PUBLISH
X-WR-CALNAME:NYSA
X-ORIGINAL-URL:https://nevadayouthsoccer.org/stagingjuly
X-WR-CALDESC:Events for NYSA
REFRESH-INTERVAL;VALUE=DURATION:PT1H
X-Robots-Tag:noindex
X-PUBLISHED-TTL:PT1H
BEGIN:VTIMEZONE
TZID:UTC
BEGIN:STANDARD
TZOFFSETFROM:+0000
TZOFFSETTO:+0000
TZNAME:UTC
DTSTART:20230101T000000
END:STANDARD
END:VTIMEZONE
BEGIN:VEVENT
DTSTART;VALUE=DATE:20230608
DTEND;VALUE=DATE:20230612
DTSTAMP:20260423T061509
CREATED:20221102T151604Z
LAST-MODIFIED:20221102T151604Z
UID:1199-1686182400-1686527999@nevadayouthsoccer.org
SUMMARY:Coaching Education - D-License - 2nd in-person meeting
DESCRIPTION:
URL:https://nevadayouthsoccer.org/stagingjuly/event/coaching-education-d-license-2nd-in-person-meeting/
LOCATION:NV
END:VEVENT
BEGIN:VEVENT
DTSTART;TZID=UTC:20230614T153000
DTEND;TZID=UTC:20230614T180000
DTSTAMP:20260423T061509
CREATED:20221102T151623Z
LAST-MODIFIED:20230613T231507Z
UID:1201-1686756600-1686765600@nevadayouthsoccer.org
SUMMARY:Nevada Youth Soccer Annual General Meeting
DESCRIPTION:The Nevada Youth Soccer Annual General Meeting will be held on June 14th at 3:30pm. For those that wish to attend virtually\, please use the link below to register to receive the meeting link. \n  \nREGISTRATION LINK
URL:https://nevadayouthsoccer.org/stagingjuly/event/nevada-youth-soccer-annual-general-meeting/
LOCATION:Cashman Field\, 850 N Las Vegas Blvd.\, Las Vegas\, 89101\, United States
END:VEVENT
BEGIN:VEVENT
DTSTART;TZID=UTC:20230616T080000
DTEND;TZID=UTC:20230620T170000
DTSTAMP:20260423T061509
CREATED:20221102T151642Z
LAST-MODIFIED:20221102T151642Z
UID:1203-1686902400-1687280400@nevadayouthsoccer.org
SUMMARY:USYS Far West Presidents Cup - Boise\, ID
DESCRIPTION:
URL:https://nevadayouthsoccer.org/stagingjuly/event/usys-far-west-presidents-cup-boise-id/
LOCATION:NV
END:VEVENT
BEGIN:VEVENT
DTSTART;TZID=UTC:20230623T080000
DTEND;TZID=UTC:20230629T170000
DTSTAMP:20260423T061509
CREATED:20221102T151709Z
LAST-MODIFIED:20221102T151709Z
UID:1205-1687507200-1688058000@nevadayouthsoccer.org
SUMMARY:USYS Far West Regionals\, Boise\, ID
DESCRIPTION:
URL:https://nevadayouthsoccer.org/stagingjuly/event/usys-far-west-regionals-boise-id/
LOCATION:NV
END:VEVENT
END:VCALENDAR