BEGIN:VCALENDAR
VERSION:2.0
PRODID:-//NYSA - ECPv6.1.2.2//NONSGML v1.0//EN
CALSCALE:GREGORIAN
METHOD:PUBLISH
X-ORIGINAL-URL:https://nevadayouthsoccer.org/stagingjuly
X-WR-CALDESC:Events for NYSA
REFRESH-INTERVAL;VALUE=DURATION:PT1H
X-Robots-Tag:noindex
X-PUBLISHED-TTL:PT1H
BEGIN:VTIMEZONE
TZID:UTC
BEGIN:STANDARD
TZOFFSETFROM:+0000
TZOFFSETTO:+0000
TZNAME:UTC
DTSTART:20230101T000000
END:STANDARD
END:VTIMEZONE
BEGIN:VEVENT
DTSTART;VALUE=DATE:20230701
DTEND;VALUE=DATE:20230702
DTSTAMP:20260423T044610
CREATED:20221102T151729Z
LAST-MODIFIED:20221102T151729Z
UID:1207-1688169600-1688255999@nevadayouthsoccer.org
SUMMARY:2023/2024 Player Registration opens
DESCRIPTION:
URL:https://nevadayouthsoccer.org/stagingjuly/event/2023-2024-player-registration-opens/
LOCATION:NV
END:VEVENT
BEGIN:VEVENT
DTSTART;VALUE=DATE:20230706
DTEND;VALUE=DATE:20230712
DTSTAMP:20260423T044610
CREATED:20221102T151753Z
LAST-MODIFIED:20221102T151753Z
UID:1209-1688601600-1689119999@nevadayouthsoccer.org
SUMMARY:USYS National President’s Cup - Wichita\, KS
DESCRIPTION:
URL:https://nevadayouthsoccer.org/stagingjuly/event/usys-national-presidents-cup-wichita-ks/
LOCATION:NV
END:VEVENT
BEGIN:VEVENT
DTSTART;VALUE=DATE:20230716
DTEND;VALUE=DATE:20230724
DTSTAMP:20260423T044610
CREATED:20221102T151837Z
LAST-MODIFIED:20221102T151837Z
UID:1213-1689465600-1690156799@nevadayouthsoccer.org
SUMMARY:USYS National Championships - Orlando\, FL @ Disney World’s ESPN Wide World of Sports
DESCRIPTION:
URL:https://nevadayouthsoccer.org/stagingjuly/event/usys-national-championships-orlando-fl-disney-worlds-espn-wide-world-of-sports/
LOCATION:NV
END:VEVENT
END:VCALENDAR